Package: CGEN Version: 3.45.0 Command: /home/biocbuild/bbs-3.22-bioc/R/bin/R CMD INSTALL CGEN StartedAt: 2025-10-24 15:15:43 -0400 (Fri, 24 Oct 2025) EndedAt: 2025-10-24 15:16:19 -0400 (Fri, 24 Oct 2025) EllapsedTime: 36.0 seconds RetCode: 0 Status: OK