Package: CFAssay Version: 1.44.0 Command: /Library/Frameworks/R.framework/Resources/bin/R CMD build --keep-empty-dirs --no-resave-data CFAssay StartedAt: 2025-10-31 15:57:56 -0400 (Fri, 31 Oct 2025) EndedAt: 2025-10-31 15:58:01 -0400 (Fri, 31 Oct 2025) EllapsedTime: 5.1 seconds RetCode: 0 Status: OK PackageFile: CFAssay_1.44.0.tar.gz PackageFileSize: 323 KiB