Package: CFAssay Version: 1.44.0 Command: rm -rf CFAssay.buildbin-libdir && mkdir CFAssay.buildbin-libdir && /Users/biocbuild/BBS/utils/build-universal.sh CFAssay_1.44.0.tar.gz /Library/Frameworks/R.framework/Resources/bin/R CFAssay.buildbin-libdir StartedAt: 2025-11-04 22:57:44 -0500 (Tue, 04 Nov 2025) EndedAt: 2025-11-04 22:57:46 -0500 (Tue, 04 Nov 2025) EllapsedTime: 2.0 seconds RetCode: 0 Status: OK PackageFile: CFAssay_1.44.0.tgz PackageFileSize: 400.2 KiB