Package: CEMiTool Version: 1.33.2 Command: /home/biocbuild/bbs-3.22-bioc/R/bin/R CMD INSTALL CEMiTool StartedAt: 2025-10-24 15:57:53 -0400 (Fri, 24 Oct 2025) EndedAt: 2025-10-24 15:58:20 -0400 (Fri, 24 Oct 2025) EllapsedTime: 27.2 seconds RetCode: 0 Status: OK