Package: CEMiTool Version: 1.34.0 Command: /Library/Frameworks/R.framework/Resources/bin/R CMD build --keep-empty-dirs --no-resave-data CEMiTool StartedAt: 2025-11-03 16:24:07 -0500 (Mon, 03 Nov 2025) EndedAt: 2025-11-03 16:25:56 -0500 (Mon, 03 Nov 2025) EllapsedTime: 108.3 seconds RetCode: 0 Status: OK PackageFile: CEMiTool_1.34.0.tar.gz PackageFileSize: 5.65 MiB