Package: CEMiTool Version: 1.33.2 Command: /Library/Frameworks/R.framework/Resources/bin/R CMD INSTALL CEMiTool StartedAt: 2025-10-24 15:28:51 -0400 (Fri, 24 Oct 2025) EndedAt: 2025-10-24 15:29:02 -0400 (Fri, 24 Oct 2025) EllapsedTime: 11.5 seconds RetCode: 0 Status: OK