Package: CEMiTool Version: 1.33.2 Command: /Library/Frameworks/R.framework/Resources/bin/R CMD build --keep-empty-dirs --no-resave-data CEMiTool StartedAt: 2025-10-24 15:56:17 -0400 (Fri, 24 Oct 2025) EndedAt: 2025-10-24 15:56:59 -0400 (Fri, 24 Oct 2025) EllapsedTime: 42.5 seconds RetCode: 0 Status: OK PackageFile: CEMiTool_1.33.2.tar.gz PackageFileSize: 5.636 MiB