Package: CCPlotR Version: 1.7.0 Command: /home/biocbuild/R/R/bin/R CMD INSTALL CCPlotR StartedAt: 2025-10-23 20:33:44 -0000 (Thu, 23 Oct 2025) EndedAt: 2025-10-23 20:34:01 -0000 (Thu, 23 Oct 2025) EllapsedTime: 16.5 seconds RetCode: 0 Status: OK