Package: CCPlotR Version: 1.7.0 Command: /home/biocbuild/bbs-3.22-bioc/R/bin/R CMD check --install=check:CCPlotR.install-out.txt --library=/home/biocbuild/bbs-3.22-bioc/R/site-library --timings CCPlotR_1.7.0.tar.gz StartedAt: 2025-10-24 21:58:14 -0400 (Fri, 24 Oct 2025) EndedAt: 2025-10-24 22:00:13 -0400 (Fri, 24 Oct 2025) EllapsedTime: 119.3 seconds RetCode: 0 Status: OK CheckDir: CCPlotR.Rcheck Warnings: 0