Package: CCPlotR Version: 1.7.0 Command: /Library/Frameworks/R.framework/Resources/bin/R CMD build --keep-empty-dirs --no-resave-data CCPlotR StartedAt: 2025-10-24 16:26:43 -0400 (Fri, 24 Oct 2025) EndedAt: 2025-10-24 16:27:25 -0400 (Fri, 24 Oct 2025) EllapsedTime: 42.3 seconds RetCode: 0 Status: OK PackageFile: CCPlotR_1.7.0.tar.gz PackageFileSize: 4.948 MiB