Package: CCPlotR Version: 1.7.0 Command: rm -rf CCPlotR.buildbin-libdir && mkdir CCPlotR.buildbin-libdir && /Users/biocbuild/BBS/utils/build-universal.sh CCPlotR_1.7.0.tar.gz /Library/Frameworks/R.framework/Resources/bin/R CCPlotR.buildbin-libdir StartedAt: 2025-10-25 01:31:30 -0400 (Sat, 25 Oct 2025) EndedAt: 2025-10-25 01:31:52 -0400 (Sat, 25 Oct 2025) EllapsedTime: 21.9 seconds RetCode: 0 Status: OK PackageFile: CCPlotR_1.7.0.tgz PackageFileSize: 2.763 MiB