Package: CCPlotR Version: 1.7.0 Command: /Library/Frameworks/R.framework/Resources/bin/R CMD INSTALL CCPlotR StartedAt: 2025-10-26 15:07:56 -0400 (Sun, 26 Oct 2025) EndedAt: 2025-10-26 15:08:02 -0400 (Sun, 26 Oct 2025) EllapsedTime: 5.4 seconds RetCode: 0 Status: OK