Package: CCPlotR Version: 1.7.0 Command: /Library/Frameworks/R.framework/Resources/bin/R CMD build --keep-empty-dirs --no-resave-data CCPlotR StartedAt: 2025-10-26 15:52:02 -0400 (Sun, 26 Oct 2025) EndedAt: 2025-10-26 15:52:16 -0400 (Sun, 26 Oct 2025) EllapsedTime: 14.1 seconds RetCode: 0 Status: OK PackageFile: CCPlotR_1.7.0.tar.gz PackageFileSize: 4.95 MiB