Package: CCPROMISE Version: 1.35.0 Command: /home/biocbuild/R/R/bin/R CMD INSTALL CCPROMISE StartedAt: 2025-10-23 21:24:10 -0000 (Thu, 23 Oct 2025) EndedAt: 2025-10-23 21:24:29 -0000 (Thu, 23 Oct 2025) EllapsedTime: 19.6 seconds RetCode: 0 Status: OK