Package: CCPROMISE Version: 1.35.0 Command: /home/biocbuild/R/R/bin/R CMD build --keep-empty-dirs --no-resave-data CCPROMISE StartedAt: 2025-10-20 22:31:18 -0000 (Mon, 20 Oct 2025) EndedAt: 2025-10-20 22:32:09 -0000 (Mon, 20 Oct 2025) EllapsedTime: 51.0 seconds RetCode: 0 Status: OK PackageFile: CCPROMISE_1.35.0.tar.gz PackageFileSize: 1.028 MiB