Package: CCPROMISE Version: 1.35.0 Command: /home/biocbuild/bbs-3.22-bioc/R/bin/R CMD check --install=check:CCPROMISE.install-out.txt --library=/home/biocbuild/bbs-3.22-bioc/R/site-library --timings CCPROMISE_1.35.0.tar.gz StartedAt: 2025-10-24 21:58:16 -0400 (Fri, 24 Oct 2025) EndedAt: 2025-10-24 22:01:13 -0400 (Fri, 24 Oct 2025) EllapsedTime: 176.3 seconds RetCode: 0 Status: WARNINGS CheckDir: CCPROMISE.Rcheck Warnings: 1