Package: CCPROMISE Version: 1.35.0 Command: /Library/Frameworks/R.framework/Resources/bin/R CMD build --keep-empty-dirs --no-resave-data CCPROMISE StartedAt: 2025-10-24 16:26:53 -0400 (Fri, 24 Oct 2025) EndedAt: 2025-10-24 16:27:40 -0400 (Fri, 24 Oct 2025) EllapsedTime: 47.0 seconds RetCode: 0 Status: OK PackageFile: CCPROMISE_1.35.0.tar.gz PackageFileSize: 1.03 MiB