Package: CCPROMISE Version: 1.35.0 Command: rm -rf CCPROMISE.buildbin-libdir && mkdir CCPROMISE.buildbin-libdir && /Users/biocbuild/BBS/utils/build-universal.sh CCPROMISE_1.35.0.tar.gz /Library/Frameworks/R.framework/Resources/bin/R CCPROMISE.buildbin-libdir StartedAt: 2025-10-25 01:31:34 -0400 (Sat, 25 Oct 2025) EndedAt: 2025-10-25 01:31:56 -0400 (Sat, 25 Oct 2025) EllapsedTime: 21.9 seconds RetCode: 0 Status: OK PackageFile: CCPROMISE_1.35.0.tgz PackageFileSize: 1.08 MiB