Package: CCAFE Version: 1.2.0 Command: /Library/Frameworks/R.framework/Resources/bin/R CMD INSTALL CCAFE StartedAt: 2025-11-02 15:44:53 -0500 (Sun, 02 Nov 2025) EndedAt: 2025-11-02 15:44:59 -0500 (Sun, 02 Nov 2025) EllapsedTime: 5.7 seconds RetCode: 0 Status: OK