Package: CCAFE Version: 1.2.0 Command: /Library/Frameworks/R.framework/Resources/bin/R CMD build --keep-empty-dirs --no-resave-data CCAFE StartedAt: 2025-11-02 16:26:11 -0500 (Sun, 02 Nov 2025) EndedAt: 2025-11-02 16:27:31 -0500 (Sun, 02 Nov 2025) EllapsedTime: 79.9 seconds RetCode: 0 Status: OK PackageFile: CCAFE_1.2.0.tar.gz PackageFileSize: 5.68 MiB