Package: CCAFE Version: 1.2.0 Command: rm -rf CCAFE.buildbin-libdir && mkdir CCAFE.buildbin-libdir && /Users/biocbuild/BBS/utils/build-universal.sh CCAFE_1.2.0.tar.gz /Library/Frameworks/R.framework/Resources/bin/R CCAFE.buildbin-libdir StartedAt: 2025-11-04 01:31:21 -0500 (Tue, 04 Nov 2025) EndedAt: 2025-11-04 01:31:29 -0500 (Tue, 04 Nov 2025) EllapsedTime: 8.1 seconds RetCode: 0 Status: OK PackageFile: CCAFE_1.2.0.tgz PackageFileSize: 5.701 MiB