Package: CCAFE Version: 1.1.0 Command: rm -rf CCAFE.buildbin-libdir && mkdir CCAFE.buildbin-libdir && /Users/biocbuild/BBS/utils/build-universal.sh CCAFE_1.1.0.tar.gz /Library/Frameworks/R.framework/Resources/bin/R CCAFE.buildbin-libdir StartedAt: 2025-10-24 22:56:46 -0400 (Fri, 24 Oct 2025) EndedAt: 2025-10-24 22:56:48 -0400 (Fri, 24 Oct 2025) EllapsedTime: 2.0 seconds RetCode: 0 Status: OK PackageFile: CCAFE_1.1.0.tgz PackageFileSize: 5.701 MiB