Package: CBNplot Version: 1.9.0 Command: /home/biocbuild/R/R/bin/R CMD INSTALL CBNplot StartedAt: 2025-10-23 21:14:25 -0000 (Thu, 23 Oct 2025) EndedAt: 2025-10-23 21:15:07 -0000 (Thu, 23 Oct 2025) EllapsedTime: 41.6 seconds RetCode: 0 Status: OK