Package: CBNplot Version: 1.9.0 Command: /home/biocbuild/R/R/bin/R CMD build --keep-empty-dirs --no-resave-data CBNplot StartedAt: 2025-10-20 22:30:27 -0000 (Mon, 20 Oct 2025) EndedAt: 2025-10-20 22:31:48 -0000 (Mon, 20 Oct 2025) EllapsedTime: 80.0 seconds RetCode: 0 Status: OK PackageFile: CBNplot_1.9.0.tar.gz PackageFileSize: 691 KiB