Package: CBNplot Version: 1.9.0 Command: /home/biocbuild/bbs-3.22-bioc/R/bin/R CMD INSTALL CBNplot StartedAt: 2025-10-24 16:00:06 -0400 (Fri, 24 Oct 2025) EndedAt: 2025-10-24 16:00:37 -0400 (Fri, 24 Oct 2025) EllapsedTime: 30.5 seconds RetCode: 0 Status: OK