Package: CBNplot Version: 1.9.0 Command: /home/biocbuild/bbs-3.22-bioc/R/bin/R CMD build --keep-empty-dirs --no-resave-data --md5 CBNplot StartedAt: 2025-10-24 16:49:15 -0400 (Fri, 24 Oct 2025) EndedAt: 2025-10-24 16:50:19 -0400 (Fri, 24 Oct 2025) EllapsedTime: 64.0 seconds RetCode: 0 Status: OK PackageFile: CBNplot_1.9.0.tar.gz PackageFileSize: 1.009 MiB