Package: CBNplot Version: 1.9.0 Command: /Library/Frameworks/R.framework/Resources/bin/R CMD INSTALL CBNplot StartedAt: 2025-10-24 15:55:06 -0400 (Fri, 24 Oct 2025) EndedAt: 2025-10-24 15:55:48 -0400 (Fri, 24 Oct 2025) EllapsedTime: 42.1 seconds RetCode: 0 Status: OK