Package: CBNplot Version: 1.9.0 Command: /Library/Frameworks/R.framework/Resources/bin/R CMD build --keep-empty-dirs --no-resave-data CBNplot StartedAt: 2025-10-24 16:26:16 -0400 (Fri, 24 Oct 2025) EndedAt: 2025-10-24 16:27:28 -0400 (Fri, 24 Oct 2025) EllapsedTime: 72.1 seconds RetCode: 0 Status: OK PackageFile: CBNplot_1.9.0.tar.gz PackageFileSize: 1.032 MiB