Package: CBNplot Version: 1.9.0 Command: rm -rf CBNplot.buildbin-libdir && mkdir CBNplot.buildbin-libdir && /Users/biocbuild/BBS/utils/build-universal.sh CBNplot_1.9.0.tar.gz /Library/Frameworks/R.framework/Resources/bin/R CBNplot.buildbin-libdir StartedAt: 2025-10-25 01:31:27 -0400 (Sat, 25 Oct 2025) EndedAt: 2025-10-25 01:32:12 -0400 (Sat, 25 Oct 2025) EllapsedTime: 45.0 seconds RetCode: 0 Status: OK PackageFile: CBNplot_1.9.0.tgz PackageFileSize: 1.171 MiB