Package: CBNplot Version: 1.9.0 Command: /Library/Frameworks/R.framework/Resources/bin/R CMD INSTALL CBNplot StartedAt: 2025-10-24 15:30:44 -0400 (Fri, 24 Oct 2025) EndedAt: 2025-10-24 15:30:57 -0400 (Fri, 24 Oct 2025) EllapsedTime: 12.8 seconds RetCode: 0 Status: OK