Package: CBN2Path Version: 0.99.18 Command: /home/biocbuild/bbs-3.22-bioc/R/bin/R CMD build --keep-empty-dirs --no-resave-data --md5 CBN2Path StartedAt: 2025-10-27 16:40:41 -0400 (Mon, 27 Oct 2025) EndedAt: 2025-10-27 16:50:59 -0400 (Mon, 27 Oct 2025) EllapsedTime: 617.5 seconds RetCode: 0 Status: OK PackageFile: CBN2Path_0.99.18.tar.gz PackageFileSize: 2.281 MiB