Package: CBN2Path Version: 0.99.18 Command: /Library/Frameworks/R.framework/Resources/bin/R CMD INSTALL CBN2Path StartedAt: 2025-10-26 15:14:39 -0400 (Sun, 26 Oct 2025) EndedAt: 2025-10-26 15:14:57 -0400 (Sun, 26 Oct 2025) EllapsedTime: 17.4 seconds RetCode: 0 Status: OK