Package: CBN2Path Version: 0.99.18 Command: /Library/Frameworks/R.framework/Resources/bin/R CMD build --keep-empty-dirs --no-resave-data CBN2Path StartedAt: 2025-10-26 15:51:33 -0400 (Sun, 26 Oct 2025) EndedAt: 2025-10-26 15:52:24 -0400 (Sun, 26 Oct 2025) EllapsedTime: 51.6 seconds RetCode: 1 Status: ERROR PackageFile: None PackageFileSize: NA