Package: CBN2Path Version: 0.99.17 Command: rm -rf CBN2Path.buildbin-libdir && mkdir CBN2Path.buildbin-libdir && /Users/biocbuild/BBS/utils/build-universal.sh CBN2Path_0.99.17.tar.gz /Library/Frameworks/R.framework/Resources/bin/R CBN2Path.buildbin-libdir StartedAt: 2025-10-24 22:56:42 -0400 (Fri, 24 Oct 2025) EndedAt: 2025-10-24 22:57:01 -0400 (Fri, 24 Oct 2025) EllapsedTime: 19.4 seconds RetCode: 0 Status: OK PackageFile: CBN2Path_0.99.17.tgz PackageFileSize: 2.665 MiB