Package: CATALYST Version: 1.33.1 Command: /home/biocbuild/bbs-3.22-bioc/R/bin/R CMD INSTALL CATALYST StartedAt: 2025-10-24 16:04:48 -0400 (Fri, 24 Oct 2025) EndedAt: 2025-10-24 16:05:24 -0400 (Fri, 24 Oct 2025) EllapsedTime: 36.6 seconds RetCode: 0 Status: OK