Package: CATALYST Version: 1.33.1 Command: /home/biocbuild/bbs-3.22-bioc/R/bin/R CMD build --keep-empty-dirs --no-resave-data --md5 CATALYST StartedAt: 2025-10-24 16:48:32 -0400 (Fri, 24 Oct 2025) EndedAt: 2025-10-24 16:51:30 -0400 (Fri, 24 Oct 2025) EllapsedTime: 178.2 seconds RetCode: 0 Status: OK PackageFile: CATALYST_1.33.1.tar.gz PackageFileSize: 11.32 MiB