Package: CATALYST Version: 1.34.0 Command: /Library/Frameworks/R.framework/Resources/bin/R CMD INSTALL CATALYST StartedAt: 2025-11-03 15:52:42 -0500 (Mon, 03 Nov 2025) EndedAt: 2025-11-03 15:53:35 -0500 (Mon, 03 Nov 2025) EllapsedTime: 53.0 seconds RetCode: 0 Status: OK