Package: CATALYST Version: 1.33.1 Command: /Library/Frameworks/R.framework/Resources/bin/R CMD INSTALL CATALYST StartedAt: 2025-10-24 15:32:05 -0400 (Fri, 24 Oct 2025) EndedAt: 2025-10-24 15:32:20 -0400 (Fri, 24 Oct 2025) EllapsedTime: 15.4 seconds RetCode: 0 Status: OK