Package: CATALYST Version: 1.33.1 Command: /Library/Frameworks/R.framework/Resources/bin/R CMD build --keep-empty-dirs --no-resave-data CATALYST StartedAt: 2025-10-24 15:53:32 -0400 (Fri, 24 Oct 2025) EndedAt: 2025-10-24 15:54:44 -0400 (Fri, 24 Oct 2025) EllapsedTime: 71.8 seconds RetCode: 0 Status: OK PackageFile: CATALYST_1.33.1.tar.gz PackageFileSize: 12.08 MiB