Package: CATALYST Version: 1.33.1 Command: rm -rf CATALYST.buildbin-libdir && mkdir CATALYST.buildbin-libdir && /Users/biocbuild/BBS/utils/build-universal.sh CATALYST_1.33.1.tar.gz /Library/Frameworks/R.framework/Resources/bin/R CATALYST.buildbin-libdir StartedAt: 2025-10-24 22:56:37 -0400 (Fri, 24 Oct 2025) EndedAt: 2025-10-24 22:56:54 -0400 (Fri, 24 Oct 2025) EllapsedTime: 17.4 seconds RetCode: 0 Status: OK PackageFile: CATALYST_1.33.1.tgz PackageFileSize: 12.8 MiB