Package: CARNIVAL Version: 2.20.0 Command: /home/biocbuild/bbs-3.22-bioc/R/bin/R CMD INSTALL CARNIVAL StartedAt: 2025-10-30 15:08:22 -0400 (Thu, 30 Oct 2025) EndedAt: 2025-10-30 15:08:28 -0400 (Thu, 30 Oct 2025) EllapsedTime: 6.2 seconds RetCode: 0 Status: OK