Package: CARDspa Version: 1.1.0 Command: /home/biocbuild/bbs-3.22-bioc/R/bin/R CMD INSTALL CARDspa StartedAt: 2025-10-24 15:43:51 -0400 (Fri, 24 Oct 2025) EndedAt: 2025-10-24 15:44:52 -0400 (Fri, 24 Oct 2025) EllapsedTime: 60.6 seconds RetCode: 0 Status: OK