Package: CARDspa Version: 1.2.0 Command: /Library/Frameworks/R.framework/Resources/bin/R CMD INSTALL CARDspa StartedAt: 2025-11-02 15:18:39 -0500 (Sun, 02 Nov 2025) EndedAt: 2025-11-02 15:19:00 -0500 (Sun, 02 Nov 2025) EllapsedTime: 20.8 seconds RetCode: 0 Status: OK