Package: CARDspa Version: 1.2.0 Command: /Library/Frameworks/R.framework/Resources/bin/R CMD build --keep-empty-dirs --no-resave-data CARDspa StartedAt: 2025-11-02 15:50:46 -0500 (Sun, 02 Nov 2025) EndedAt: 2025-11-02 15:53:50 -0500 (Sun, 02 Nov 2025) EllapsedTime: 184.0 seconds RetCode: 0 Status: OK PackageFile: CARDspa_1.2.0.tar.gz PackageFileSize: 4.53 MiB