Package: CARDspa Version: 1.2.0 Command: rm -rf CARDspa.buildbin-libdir && mkdir CARDspa.buildbin-libdir && /Users/biocbuild/BBS/utils/build-universal.sh CARDspa_1.2.0.tar.gz /Library/Frameworks/R.framework/Resources/bin/R CARDspa.buildbin-libdir StartedAt: 2025-11-04 22:57:11 -0500 (Tue, 04 Nov 2025) EndedAt: 2025-11-04 22:57:34 -0500 (Tue, 04 Nov 2025) EllapsedTime: 23.5 seconds RetCode: 0 Status: OK PackageFile: CARDspa_1.2.0.tgz PackageFileSize: 4.919 MiB