Package: CAMERA Version: 1.65.1 Command: /home/biocbuild/bbs-3.22-bioc/R/bin/R CMD INSTALL CAMERA StartedAt: 2025-10-24 15:52:36 -0400 (Fri, 24 Oct 2025) EndedAt: 2025-10-24 15:53:29 -0400 (Fri, 24 Oct 2025) EllapsedTime: 52.6 seconds RetCode: 0 Status: OK