Package: CAMERA Version: 1.66.0 Command: /Library/Frameworks/R.framework/Resources/bin/R CMD build --keep-empty-dirs --no-resave-data CAMERA StartedAt: 2025-11-10 15:50:03 -0500 (Mon, 10 Nov 2025) EndedAt: 2025-11-10 15:50:42 -0500 (Mon, 10 Nov 2025) EllapsedTime: 38.4 seconds RetCode: 0 Status: OK PackageFile: CAMERA_1.66.0.tar.gz PackageFileSize: 2.424 MiB