Package: CAFE Version: 1.45.0 Command: /home/biocbuild/bbs-3.22-bioc/R/bin/R CMD INSTALL CAFE StartedAt: 2025-10-24 16:00:44 -0400 (Fri, 24 Oct 2025) EndedAt: 2025-10-24 16:01:38 -0400 (Fri, 24 Oct 2025) EllapsedTime: 53.4 seconds RetCode: 0 Status: OK