Package: BumpyMatrix Version: 1.17.0 Command: /home/biocbuild/R/R/bin/R CMD build --keep-empty-dirs --no-resave-data BumpyMatrix StartedAt: 2025-10-20 22:25:40 -0000 (Mon, 20 Oct 2025) EndedAt: 2025-10-20 22:26:11 -0000 (Mon, 20 Oct 2025) EllapsedTime: 31.0 seconds RetCode: 0 Status: OK PackageFile: BumpyMatrix_1.17.0.tar.gz PackageFileSize: 384.6 KiB