Package: BumpyMatrix Version: 1.17.0 Command: /home/biocbuild/bbs-3.22-bioc/R/bin/R CMD INSTALL BumpyMatrix StartedAt: 2025-10-24 15:24:50 -0400 (Fri, 24 Oct 2025) EndedAt: 2025-10-24 15:25:04 -0400 (Fri, 24 Oct 2025) EllapsedTime: 13.3 seconds RetCode: 0 Status: OK